BEGIN:VCALENDAR
VERSION:2.0
PRODID:-//diabetessamverkan.se - ECPv6.0.5//NONSGML v1.0//EN
CALSCALE:GREGORIAN
METHOD:PUBLISH
X-ORIGINAL-URL:https://diabetessamverkansverige.se
X-WR-CALDESC:Händelser för diabetessamverkan.se
REFRESH-INTERVAL;VALUE=DURATION:PT1H
X-Robots-Tag:noindex
X-PUBLISHED-TTL:PT1H
BEGIN:VTIMEZONE
TZID:UTC
BEGIN:STANDARD
TZOFFSETFROM:+0000
TZOFFSETTO:+0000
TZNAME:UTC
DTSTART:20180101T000000
END:STANDARD
END:VTIMEZONE
BEGIN:VEVENT
DTSTART;TZID=UTC:20180515T113000
DTEND;TZID=UTC:20180515T133000
DTSTAMP:20260424T172112
CREATED:20180409T062941Z
LAST-MODIFIED:20180420T082517Z
UID:1110-1526383800-1526391000@diabetessamverkansverige.se
SUMMARY:DSS Väst. Välkomna till Göteborg 15 maj\, 11.30 -13.30.
DESCRIPTION:
URL:https://diabetessamverkansverige.se/events/dss-vast-mote-15-maj/
LOCATION:Sahlgrenska Science Park\, Medicinaregatan 8A\, Göteborg\, Medicinaregatan 8A\, Göteborg\, Sverige
END:VEVENT
BEGIN:VEVENT
DTSTART;TZID=UTC:20180604T153000
DTEND;TZID=UTC:20180604T173000
DTSTAMP:20260424T172112
CREATED:20180409T063331Z
LAST-MODIFIED:20180508T131442Z
UID:1114-1528126200-1528133400@diabetessamverkansverige.se
SUMMARY:DSS Öst. Välkomna till Stockholm 4 juni\, 15.30–17.30
DESCRIPTION:Program \n15.30 -15.50\, Välkommen och lättare förtäring  \n15.50 -16.00\, Ömsesidig presentation av deltagarna \n16.00 -17.20 \,  Företagspresentationer \ni skrivande stund: Brighter\, Dianovator\, Infodiab och Innovosens\n \n17.20 – 17.30\,   Avslutning
URL:https://diabetessamverkansverige.se/events/dss-ost-valkomna-till-stockholm-4-juni-13-30-17-30/
LOCATION:Karolinska Institutet\, Retzius väg 13\, Retzius väg 13\, Stockholm\, Sverige
END:VEVENT
BEGIN:VEVENT
DTSTART;TZID=UTC:20181008T123000
DTEND;TZID=UTC:20181008T150000
DTSTAMP:20260424T172112
CREATED:20180905T112059Z
LAST-MODIFIED:20180919T093259Z
UID:1286-1539001800-1539010800@diabetessamverkansverige.se
SUMMARY:Diabetes– klinik och behandling
DESCRIPTION:Diabetes – klinik och behandling\nVar: SUS i Malmö\, Inga Marie Nilssons gata 53\, Malmö\nTid: 8 oktober start 12.30 med en enklare lunch. Slut ca 15.00 \nDiabetes – teman runt klinik och behandling \nPlats: SUS i Malmö\, Inga Marie Nilssons gata 53\, Wallenberglaboratoriet\, Seminariesal Medelhavet \nProgram: \n12.30 – 13.00 Enklare förtäring \n13.00 – 14.45 Presentationer och diskussioner enligt nedan: \nMagnus Löndahl\, docent vid EXODIAB: Excellence in Diabetes Research in Sweden\, presenterar en uppdaterad genomgång kring behandlingsprinciper. \nÅsaLinda Lethagen\, Md. PhD\, Specialist i Internmedicin och Endokrinologi\, presenterar exempel på patientfall i primärvården. \nRepresentant från patientorganisation pratar kring patientperspektivet. \nDiskussion \n14.45 – 15.00 Avslutning \nAnmälan till dss@diabetessamverkansverige.se senast den 1 oktober \nAlternativ till anmälningsadress ovan är carina.christensson@medeon.se
URL:https://diabetessamverkansverige.se/events/diabetes-klinik-och-behandling/
LOCATION:SUS i Malmö\, Inga Marie Nilssons gata 53\, Wallenberglaboratoriet\, sal Medelhavet\, Malmö\, Sverige
ATTACH;FMTTYPE=image/png:https://media.diabetessamverkansverige.se/2015/05/event-circle.png
END:VEVENT
BEGIN:VEVENT
DTSTART;TZID=UTC:20181113T113000
DTEND;TZID=UTC:20181113T133000
DTSTAMP:20260424T172112
CREATED:20180907T110232Z
LAST-MODIFIED:20181105T100342Z
UID:1297-1542108600-1542115800@diabetessamverkansverige.se
SUMMARY:Nationellt möte i Linköping
DESCRIPTION:Nationellt möte i Linköping\nArrangör:\nDiabetes Samverkan Sverige tillsammans med SWEDIABNET \nTema – Typ 1 diabetes/barn\nVar: Linköpings universitet\, Hälsovägen\, Ingång 15\, föreläsningssal Fasanen (vån 10)\nTid: 13 november kl. 11.30-13.30 \nLadda ner program i PDF \nHITTA HIT \nANMÄLAN\nAnmälan till dss@diabetessamverkansverige.se senast 1 november\nAlternativ till anmälningsadress ovan är carina.christensson@medeon.se
URL:https://diabetessamverkansverige.se/events/nationellt-mote-i-linkoping/
LOCATION:Linköpings universitet\, Hälsovägen\, Ingång 15\, föreläsningssal Fasanen (vån 10)\, Hälsovägen\, Ingång 15\, föreläsningssal Fasanen (vån 10)\, Linköping\, 581 85\, Sverige
ATTACH;FMTTYPE=image/jpeg:https://media.diabetessamverkansverige.se/2018/09/klinik.jpg
END:VEVENT
BEGIN:VEVENT
DTSTART;TZID=UTC:20181204T120000
DTEND;TZID=UTC:20181204T140000
DTSTAMP:20260424T172112
CREATED:20181017T133956Z
LAST-MODIFIED:20181105T100542Z
UID:1361-1543924800-1543932000@diabetessamverkansverige.se
SUMMARY:DSS-möte Nord i Umeå
DESCRIPTION:TEMA: Typ 1 diabetes/barn \nPLATS: Umeå\, Norrlands universitetssjukhus (NUS)\, Norra entrén\, Målpunkt T\, 9 trappor (första hissen)\, Föreläsningssal C\nTID: 4 december kl. 12-14 (enklare förtäring under mötet) \nPROGRAM\nJohnny Ludvigsson\, senior professor\, Linköpings universitetssjukhus\nFörsök att bevara kvarvarande insulinsekretion vid Typ 1 diabetes \nIngela Lavin\, diabetessjuksköterska\, barn- och ungdomskliniken\, NUS\nHur ser diabetesvården för barn ut idag? Utmaningar och tankar inför framtiden! \nRobyn Schimmer och Karin Danielsson-Öberg\, Umeå Universitet\nProjekt kring typ 1 diabetes – ”Design av egenvårdsstöd – hur kan vi ta hänsyn till användarens vardag?” \nANMÄLAN\nAnmälan till dss@diabetessamverkansverige.se senast den 27 november\nAlternativ till anmälningsadress ovan är carina.christensson@medeon.se
URL:https://diabetessamverkansverige.se/events/dss-mote-nord-i-umea/
LOCATION:Umeå\, Norrlands universitetssjukhus
ATTACH;FMTTYPE=image/jpeg:https://media.diabetessamverkansverige.se/2018/10/Umeå_4december.jpg
END:VEVENT
BEGIN:VEVENT
DTSTART;TZID=UTC:20190213T123000
DTEND;TZID=UTC:20190213T150000
DTSTAMP:20260424T172112
CREATED:20181017T135235Z
LAST-MODIFIED:20190116T100409Z
UID:1365-1550061000-1550070000@diabetessamverkansverige.se
SUMMARY:DSS-möte Syd i Malmö
DESCRIPTION:
URL:https://diabetessamverkansverige.se/events/dss-mote-syd-i-malmo/
LOCATION:SUS i Malmö\, Inga Marie Nilssons gata 53\, Wallenberglaboratoriet\, sal Medelhavet\, Malmö\, Sverige
END:VEVENT
BEGIN:VEVENT
DTSTART;TZID=UTC:20190312T123000
DTEND;TZID=UTC:20190312T150000
DTSTAMP:20260424T172112
CREATED:20181017T140215Z
LAST-MODIFIED:20190116T100743Z
UID:1369-1552393800-1552402800@diabetessamverkansverige.se
SUMMARY:DSS-möte i Stockholm
DESCRIPTION:
URL:https://diabetessamverkansverige.se/events/dss-mote-i-stockholm/
LOCATION:Karolinska Institutet\, Biomedicum\, Solnavägen 9\, Solna
END:VEVENT
BEGIN:VEVENT
DTSTART;TZID=UTC:20190312T123000
DTEND;TZID=UTC:20190312T150000
DTSTAMP:20260424T172112
CREATED:20190215T124949Z
LAST-MODIFIED:20190215T124949Z
UID:1490-1552393800-1552402800@diabetessamverkansverige.se
SUMMARY:DSS Öst\, Stockholm. Tema – Typ 1 diabetes/barn
DESCRIPTION:Diabetes Samverkan Sverige tillsammans med SWEDIABNET\nTema – Typ 1 diabetes/barn \nLäs mer här
URL:https://diabetessamverkansverige.se/events/dss-ost-stockholm-tema-typ-1-diabetes-barn/
LOCATION:Karolinska Institutet\, Biomedicum\, Solnavägen 9\, Solna
END:VEVENT
BEGIN:VEVENT
DTSTART;TZID=UTC:20190514T123000
DTEND;TZID=UTC:20190514T150000
DTSTAMP:20260424T172112
CREATED:20181017T140502Z
LAST-MODIFIED:20190116T100939Z
UID:1373-1557837000-1557846000@diabetessamverkansverige.se
SUMMARY:DSS-möte i Göteborg
DESCRIPTION:
URL:https://diabetessamverkansverige.se/events/dss-mote-i-goteborg/
LOCATION:Sahlgrenska Science Park\, Medicinaregatan 8A\, Göteborg\, Medicinaregatan 8A\, Göteborg\, Sverige
END:VEVENT
BEGIN:VEVENT
DTSTART;TZID=UTC:20190829T000000
DTEND;TZID=UTC:20190829T143000
DTSTAMP:20260424T172112
CREATED:20190624T083155Z
LAST-MODIFIED:20190715T091532Z
UID:1520-1567036800-1567089000@diabetessamverkansverige.se
SUMMARY:DSS i Örebro
DESCRIPTION:Diabetes Samverkan Sverige tillsammans med SWEDIABNET \nTema – Typ 1 diabetes/barn\nPLATS: Campus USÖ – Hörsal C1\, Medicinska biblioteket. Södra Grev Rosengatan 30\, Örebro.\nTID:  29 augusti\, kl. 12.30-14.30 (lättare lunch serveras från 12.00) \nPROGRAM\nJohnny Ludvigsson\, senior professor\, Linköpings universitetssjukhus\nFörsök att bevara kvarvarande insulinsekretion vid Typ 1 diabetes \nStefan Särnblad\, överläkare och universitetslektor\, Örebro universitet\nFysisk aktivitet/träning vid diabetes hos ungdomar \nJohan Jendle\, professor\, Institutionen för medicinska vetenskaper\, Örebro universitet\nAnvändning av HbA1c-värdet; för- och nackdelar
URL:https://diabetessamverkansverige.se/events/dss-i-orebro/
LOCATION:Campus USÖ – Hörsal C1\, Medicinska biblioteket\, Södra Grev Rosengatan 30\, Örebro\, Sverige
ATTACH;FMTTYPE=image/jpeg:https://media.diabetessamverkansverige.se/2018/10/Umeå_4december.jpg
END:VEVENT
BEGIN:VEVENT
DTSTART;TZID=UTC:20191017T120000
DTEND;TZID=UTC:20191017T143000
DTSTAMP:20260424T172112
CREATED:20190715T091007Z
LAST-MODIFIED:20190906T124005Z
UID:1532-1571313600-1571322600@diabetessamverkansverige.se
SUMMARY:Digitala lösningar för förbättrad diabetesvård – Uppsala
DESCRIPTION:Arrangör: Diabetes Samverkan Sverige tillsammans med Uppsala universitet\, Karolinska Institutet och Acando Consulting AB \n  \n 
URL:https://diabetessamverkansverige.se/events/digitala-losningar-for-forbattrad-diabetesvard-uppsala/
LOCATION:Uppsala\, Dragarbrunnsgatan 32\, Uppsala\, 753 21\, Sverige
ATTACH;FMTTYPE=image/jpeg:https://media.diabetessamverkansverige.se/2019/07/digitala-solutions-diabetes.jpg
END:VEVENT
BEGIN:VEVENT
DTSTART;TZID=UTC:20191119T123000
DTEND;TZID=UTC:20191119T150000
DTSTAMP:20260424T172112
CREATED:20190715T091259Z
LAST-MODIFIED:20191004T131714Z
UID:1539-1574166600-1574175600@diabetessamverkansverige.se
SUMMARY:Digitala lösningar för förbättrad diabetesvård – Malmö
DESCRIPTION:Arrangör: Diabetes Samverkan Sverige tillsammans med Uppsala universitet\, Karolinska Institutet och Acando Consulting AB
URL:https://diabetessamverkansverige.se/events/digitala-losningar-for-forbattrad-diabetesvard-malmo/
LOCATION:Malmö
ATTACH;FMTTYPE=image/jpeg:https://media.diabetessamverkansverige.se/2019/07/digitala-solutions-diabetes.jpg
END:VEVENT
BEGIN:VEVENT
DTSTART;TZID=UTC:20200317T120000
DTEND;TZID=UTC:20200317T143000
DTSTAMP:20260424T172112
CREATED:20191122T134819Z
LAST-MODIFIED:20191122T134819Z
UID:1599-1584446400-1584455400@diabetessamverkansverige.se
SUMMARY:DSS-möte i Göteborg 17 mars 2020
DESCRIPTION:
URL:https://diabetessamverkansverige.se/events/dss-mote-i-goteborg-17-mars-2020/
LOCATION:Sahlgrenska Science Park\, Medicinaregatan 8A\, Göteborg\, Medicinaregatan 8A\, Göteborg\, Sverige
END:VEVENT
BEGIN:VEVENT
DTSTART;TZID=UTC:20201114T110000
DTEND;TZID=UTC:20201114T140000
DTSTAMP:20260424T172112
CREATED:20201113T142008Z
LAST-MODIFIED:20201113T142008Z
UID:1682-1605351600-1605362400@diabetessamverkansverige.se
SUMMARY:14 november 2020 - Världsdiabetesdagen i Skåne - digitalt
DESCRIPTION:Missa inte Världsdiabetesdagen i Skåne i morgon den 14 november\, kl 11-14 som Medeon belyser tillsammans med partners från Lunds universitet\, Lunds universitetsdiabetescentrum\, Diabetesföreningen i Skåne och Diabetes Samverkan Sverige!  \n Vi sänder digitalt från Medeon. \nhttps://youtu.be/SSl6qI4epyo \nhttps://youtu.be/vobdq_7p_e4 \nMedeonstipendiet delas ut kl 12.10 och det är Medeon och Moll Wendén Advokatbyrå som står bakom summan på 50 000:- sek som delas ut till en lovande forskare på LUDC. \nProgram och följ sändningen i morgon: \nhttps://vddskane.com
URL:https://diabetessamverkansverige.se/events/14-november-2020-varldsdiabetesdagen-i-skane-digitalt/
ATTACH;FMTTYPE=image/png:https://media.diabetessamverkansverige.se/2015/05/event-circle.png
END:VEVENT
BEGIN:VEVENT
DTSTART;TZID=UTC:20201117T100000
DTEND;TZID=UTC:20201117T113000
DTSTAMP:20260424T172112
CREATED:20201006T122428Z
LAST-MODIFIED:20201102T150307Z
UID:1651-1605607200-1605612600@diabetessamverkansverige.se
SUMMARY:Digitalt DSS-möte den 17 november kl. 10-11.30
DESCRIPTION:INBJUDAN DSS-möte DIGITALT 17 november 2020 \nTema – Digitala lösningar för förbättrad diabetesvård \nDiabetes Samverkan Sverige arrangerar mötet tillsammans med Uppsala universitet\, Karolinska Institutet och Acando Consulting AB (CGI). \nTid: 17 november kl. 10.00 – 11.30 \nPROGRAM\nGöteborgs universitet\, Björn Eliasson\nSMARTEST – en svensk studie som kan förändra praxis i diabetesvården\nKarolinska Institutet\, Claes-Göran Östensson och\nAcando Consulting AB (CGI)\, Lars Gustafsson\nFölj med på en utvecklingsresa som knyter ihop grundläggande klinisk forskning om diabetes\, patientens behov av stöd med en tillämpning baserad på maskininlärning.\nFöretagspresentationer\nBrighter AB/Diabetesia\, Linda Brant-Lundin och Sofia Segersson\nPioneers-Young; Diabetes Community för ungdomar och unga vuxna\nANMÄLAN\nAnmälan till dss@diabetessamverkansverige.se senast 10 november\nAlternativ till anmälningsadress ovan är carina.christensson@medeon.se\nEfter anmälan skickas en länk till mötet som hålls via Teams.\nSprid gärna inbjudan till dina kollegor! Välkommen!
URL:https://diabetessamverkansverige.se/events/digitalt-dss-mote-under-november-mer-info-kommer/
ATTACH;FMTTYPE=image/jpeg:https://media.diabetessamverkansverige.se/2019/07/digitala-solutions-diabetes.jpg
END:VEVENT
BEGIN:VEVENT
DTSTART;TZID=UTC:20201215T130000
DTEND;TZID=UTC:20201215T143000
DTSTAMP:20260424T172112
CREATED:20201006T122652Z
LAST-MODIFIED:20201124T143756Z
UID:1653-1608037200-1608042600@diabetessamverkansverige.se
SUMMARY:DSS-möte digitalt 15 december 2020 kl. 13.00-14.30
DESCRIPTION:INBJUDAN\nDIGITALT möte – Diabetes Samverkan Sverige\nTid: 15 december kl. 13.00 – 14.30\nPROGRAM\nDiaUnion\nFinn Kristensen och Petter Hartman\, MVA\nDaniel Agardh och Alexander Lind\, LUDC\nIntroduktion till Medicon Valley Alliance (MVA) och bakgrund till projektet DiaUnion. Presentation av DiaUnion och framtidsvision samt forskning. https://mva.org/projects/diaunion/\nCities Changing Diabetes\nAnders Kottorp\, Malmö universitet och Mikael Pennanen\, Novo Nordisk\nStäder påverkar invånarnas vardag\, arbete och kostvanor – vilket är faktorer som påverkar obesitas och diabetes!\nhttps://www.citieschangingdiabetes.com/\nANMÄLAN\nAnmälan till dss@diabetessamverkansverige.se senast 8 december.\nAlternativ till anmälningsadress ovan är carina.christensson@medeon.se\nEfter anmälan skickas en länk till mötet som hålls via Zoom.\nSprid gärna inbjudan till dina kollegor! Välkommen!
URL:https://diabetessamverkansverige.se/events/dss-mote-digitalt-och-pa-plats-i-malmo-15-december-2020-mer-info-kommer/
END:VEVENT
BEGIN:VEVENT
DTSTART;TZID=UTC:20210317T100000
DTEND;TZID=UTC:20210317T110000
DTSTAMP:20260424T172112
CREATED:20210303T081345Z
LAST-MODIFIED:20210303T081345Z
UID:1723-1615975200-1615978800@diabetessamverkansverige.se
SUMMARY:DSS-möte den 17 mars kl. 10-11 - digitalt Teams
DESCRIPTION:Vi inleder den digitala våren 2021 med ett DSS-möte den 17 mars kl. 10-11.  \nTEMA – diabetesbolag i olika utvecklingsfaser presenterar! Diagnostik\, förbättrad glukoskontroll och diabetesprodukter! \nVälkommen att lyssna genom anmälan till carina.christensson@medeon.se \nDu som anmäler dig får en länk till Teams några dagar före mötet! \nVänligen \nCarina \n  \n 
URL:https://diabetessamverkansverige.se/events/dss-mote-den-17-mars-kl-10-11-digitalt-teams/
ATTACH;FMTTYPE=image/jpeg:https://media.diabetessamverkansverige.se/2017/07/meet_syd.jpg
END:VEVENT
BEGIN:VEVENT
DTSTART;TZID=UTC:20210527T100000
DTEND;TZID=UTC:20210527T110000
DTSTAMP:20260424T172112
CREATED:20210331T065626Z
LAST-MODIFIED:20210511T125653Z
UID:1735-1622109600-1622113200@diabetessamverkansverige.se
SUMMARY:Insulinet 100 år!
DESCRIPTION:Föreläsning kring Insulinet 100 år! \nDigitalt möte – Diabetes Samverkan Sverige – den 27 maj kl. 10-11 \nTema – INSULINET 100 år \nPeter Kurtzhals\, Chief Scientific Advisor\, Novo Nordisk berättar om insulinets historia som läkemedel. \nVälkommen att lyssna genom anmälan till carina.christensson@medeon.se \nDu som anmäler dig får en länk till Teams några dagar före mötet!
URL:https://diabetessamverkansverige.se/events/insulinet-100-ar/
END:VEVENT
BEGIN:VEVENT
DTSTART;TZID=UTC:20220217T100000
DTEND;TZID=UTC:20220217T110000
DTSTAMP:20260424T172112
CREATED:20220201T155751Z
LAST-MODIFIED:20220201T161101Z
UID:1780-1645092000-1645095600@diabetessamverkansverige.se
SUMMARY:DSS-möte 17 februari kl. 10-11 - digitalt
DESCRIPTION:Diabetes Samverkan Sverige (DSS) inleder 2022 med ett första digitalt \nDSS-möte 17 februari kl. 10-11\nTEMA – forskning\, patientorganisation och bolag inom diabetes \nLena Eliasson\, LUDC\, föreläser om sin forskning och vad som hänt sedan hon tilldelades Medeonstipendiet 2012. \nThomas Magnusson\, DIOS\, presenterar en aktuell frågeställning inom patientorganisationen. \nSirisha Adimatyam\, Innovosens\, presents SMASH wearable sensor that will make your life healthier (presentation in English). \nVälkommen att lyssna genom anmälan till carina.christensson@medeon.se senast den 14 februari. \nDu som anmäler dig får en länk till Teams några dagar före mötet!
URL:https://diabetessamverkansverige.se/events/dss-mote-den-17-februari-kl-10-11-digitalt/
LOCATION:Digitalt
ATTACH;FMTTYPE=image/jpeg:https://media.diabetessamverkansverige.se/2018/09/klinik.jpg
END:VEVENT
BEGIN:VEVENT
DTSTART;TZID=UTC:20220421T100000
DTEND;TZID=UTC:20220421T110000
DTSTAMP:20260424T172112
CREATED:20220329T131746Z
LAST-MODIFIED:20220329T131746Z
UID:1803-1650535200-1650538800@diabetessamverkansverige.se
SUMMARY:DSS-möte 21 april kl. 10-11 - digitalt
DESCRIPTION:
URL:https://diabetessamverkansverige.se/events/dss-mote-21-april-kl-10-11-digitalt/
LOCATION:Digitalt
END:VEVENT
BEGIN:VEVENT
DTSTART;VALUE=DATE:20220511
DTEND;VALUE=DATE:20220514
DTSTAMP:20260424T172112
CREATED:20220201T161917Z
LAST-MODIFIED:20220201T161917Z
UID:1791-1652227200-1652486399@diabetessamverkansverige.se
SUMMARY:Endodiabetes 2022
DESCRIPTION:Diabetes Samverkan Sverige är utställare på Endodiabetes 2022 som hålls den 11-13 maj i Helsingborg! \nVälkomna till oss på plan 2!
URL:https://diabetessamverkansverige.se/events/endodiabetes-2022/
ATTACH;FMTTYPE=image/png:https://media.diabetessamverkansverige.se/2017/07/logo_DSS.png
END:VEVENT
BEGIN:VEVENT
DTSTART;TZID=UTC:20221006T100000
DTEND;TZID=UTC:20221006T110000
DTSTAMP:20260424T172112
CREATED:20220711T100420Z
LAST-MODIFIED:20220711T100704Z
UID:1818-1665050400-1665054000@diabetessamverkansverige.se
SUMMARY:Digitalt DSS-möte 6 oktober kl. 10-11
DESCRIPTION:
URL:https://diabetessamverkansverige.se/events/digitalt-dss-mote-6-oktober-kl-10-11/
LOCATION:Digitalt
END:VEVENT
BEGIN:VEVENT
DTSTART;TZID=UTC:20221112T100000
DTEND;TZID=UTC:20221112T140000
DTSTAMP:20260424T172112
CREATED:20221026T120438Z
LAST-MODIFIED:20221026T121523Z
UID:1827-1668247200-1668261600@diabetessamverkansverige.se
SUMMARY:Världsdiabetesdagen i Skåne 12 november - Quality Hotel View\, Malmö
DESCRIPTION:Världsdiabetesdagen i Skåne arrangeras lördagen den 12 november  i samband med den internationella dagen som sätter fokus på alla de miljoner människor som lever med sjukdomen. \nI år har Världsdiabetesdagen Skåne ett särskilt fokus på individanpassad diabetesvård. \nTid: 12 november 2022\, kl. 10-14\nPlats: Quality Hotel View\, Hyllie Stationstorg 29\, Malmö \nKostnadsfritt att delta \nFör program; se länk: \nProgram Världsdiabetesdagen Skåne 2022 – lördag den 12 november (vddskane.com) \nVärldsdiabetesdagen Skåne är ett årligt evenemang som arrangeras i samarbete mellan Lunds universitets diabetescentrum (LUDC)\, Sydvästra Skånes Diabetesförening\, Medeon Science Park och Diabetes Samverkan Sverige.
URL:https://diabetessamverkansverige.se/events/1827/
ATTACH;FMTTYPE=image/jpeg:https://media.diabetessamverkansverige.se/2018/10/Umeå_4december.jpg
END:VEVENT
BEGIN:VEVENT
DTSTART;TZID=UTC:20221124T100000
DTEND;TZID=UTC:20221124T110000
DTSTAMP:20260424T172112
CREATED:20221026T121232Z
LAST-MODIFIED:20221026T121232Z
UID:1834-1669284000-1669287600@diabetessamverkansverige.se
SUMMARY:Digitalt DSS-möte den 24 november kl. 10-11!
DESCRIPTION:Digitalt DSS-möte den 24 november kl. 10-11! Inbjudan skickas ut under november månad. Välkomna!
URL:https://diabetessamverkansverige.se/events/digitalt-dss-mote-den-24-november-kl-10-11/
ATTACH;FMTTYPE=image/png:https://media.diabetessamverkansverige.se/2015/05/event-circle.png
END:VEVENT
BEGIN:VEVENT
DTSTART;TZID=UTC:20231011T113000
DTEND;TZID=UTC:20231011T133000
DTSTAMP:20260424T172112
CREATED:20230629T122603Z
LAST-MODIFIED:20230629T123048Z
UID:1885-1697023800-1697031000@diabetessamverkansverige.se
SUMMARY:DSS-möte - Stockholm - 11 oktober 2023
DESCRIPTION:Välkommen till DSS-möte den 11 oktober kl. 11.30-13.30  \n(inleds med en lättare lunch)! \nPlats: AWL/Campus Solna \nTema: Diabetes typ-1 \nFöreläsare: Malin Flodström Tullberg\, KI samt ytterligare föreläsare som meddelas längre fram \nInbjudan skickas ut under september månad. \nFrågor: carina.christensson@medeon.se \n \n 
URL:https://diabetessamverkansverige.se/events/dss-mote-stockholm-11-oktober-2023/
LOCATION:AWL/Campus Solna
ATTACH;FMTTYPE=image/jpeg:https://media.diabetessamverkansverige.se/2018/10/Umeå_4december.jpg
END:VEVENT
BEGIN:VEVENT
DTSTART;TZID=UTC:20231114T140000
DTEND;TZID=UTC:20231114T190000
DTSTAMP:20260424T172112
CREATED:20231006T092626Z
LAST-MODIFIED:20231006T092626Z
UID:1899-1699970400-1699988400@diabetessamverkansverige.se
SUMMARY:Världsdiabetesdagen Skåne 2023
DESCRIPTION:Världsdiabetesdagen Skåne 2023 \nTid: 14 november 2023. Föreläsningarna pågår kl. 15-18. Utställningsdelen håller öppet kl. 14-19.\nPlats: Studio Meetingpoint\, Nordenskiöldsgatan 24\, 211 19 Malmö\nKontakt: ulrika.blom-nilsson@med.lu.se \nVärldsdiabetesdagen Skåne arrangeras på Studio Meetingpoint i Malmö tisdagen den 14 november i samband med den internationella dagen som sätter fokus på alla de miljoner människor som lever med sjukdomen. I år har Världsdiabetesdagen Skåne ett särskilt fokus på vilka upptäckter om diabetes som deltagare i vetenskapliga studier bidrar till. \nUnder dagen presenteras det senaste inom diabetesforskningen och företag som är verksamma inom diabetesområdet deltar som utställare. \nMedeonstipendiet delas ut i samband med evenemanget. Stipendiet ges årligen till en forskare vid Lunds universitets diabetescentrum (LUDC). Diabetesforskaren Malin Fex är moderator för Världsdiabetesdagen Skåne 2023. \nFör mer info se länk: \nwww.vddskane.com \nHjärtligt välkommen!
URL:https://diabetessamverkansverige.se/events/varldsdiabetesdagen-skane-2023/
LOCATION:Studio Meetingpoint Malmö
END:VEVENT
BEGIN:VEVENT
DTSTART;TZID=UTC:20231207T100000
DTEND;TZID=UTC:20231207T110000
DTSTAMP:20260424T172112
CREATED:20231109T124902Z
LAST-MODIFIED:20231109T125348Z
UID:1910-1701943200-1701946800@diabetessamverkansverige.se
SUMMARY:Diabetes Samverkan Sverige (DSS) digitalt möte den 7 december kl. 10-11
DESCRIPTION:Diabetes Samverkan Sverige (DSS) bjuder in till digitalt DSS-möte den 7 december kl. 10-11 \nProgram \n Tanja Markestål\, konsultativ diabetessjuksköterska med övergripande uppdrag i hälsa-\, vård- och omsorgsförvaltningen i Malmö stad \nTema \n”Sjuksköterskans arbete kring en patient med en diabetesdiagnos i kommunal primärvård” \nVälkommen att lyssna genom anmälan till carina.christensson@medeon.se senast den 30 november. \nDu som anmäler dig får en länk till Teams några dagar före mötet! \nSprid gärna inbjudan till dina kollegor! \nVänligen \nCarina
URL:https://diabetessamverkansverige.se/events/diabetes-samverkan-sverige-dss-digitalt-mote-den-7-december-kl-10-11/
LOCATION:Digitalt
END:VEVENT
BEGIN:VEVENT
DTSTART;TZID=UTC:20240320T100000
DTEND;TZID=UTC:20240320T110000
DTSTAMP:20260424T172112
CREATED:20240222T134327Z
LAST-MODIFIED:20240222T134327Z
UID:1922-1710928800-1710932400@diabetessamverkansverige.se
SUMMARY:Digitalt DSS-möte 20 mars kl. 10-11
DESCRIPTION:
URL:https://diabetessamverkansverige.se/events/digitalt-dss-mote-20-mars-kl-10-11/
LOCATION:Digitalt
END:VEVENT
BEGIN:VEVENT
DTSTART;TZID=UTC:20240517T110000
DTEND;TZID=UTC:20240517T120000
DTSTAMP:20260424T172112
CREATED:20240429T062151Z
LAST-MODIFIED:20240429T062151Z
UID:1933-1715943600-1715947200@diabetessamverkansverige.se
SUMMARY:Diabetes Samverkan Sverige (DSS) möte den 17 maj 2024 kl. 11-12
DESCRIPTION:
URL:https://diabetessamverkansverige.se/events/diabetes-samverkan-sverige-dss-mote-den-17-maj-2024-kl-11-12/
LOCATION:Sus i Malmö\, Inga Marie Nilssons gata 53\, Wallenberglaboratoriet\, sal Medelhavet\, Malmö\, 205 02\, Sverige
END:VEVENT
BEGIN:VEVENT
DTSTART;TZID=UTC:20241015T100000
DTEND;TZID=UTC:20241015T110000
DTSTAMP:20260424T172112
CREATED:20240920T080100Z
LAST-MODIFIED:20240920T080100Z
UID:1943-1728986400-1728990000@diabetessamverkansverige.se
SUMMARY:Diabetes Samverkan Sverige - digitalt möte 15 oktober kl. 10-11
DESCRIPTION:
URL:https://diabetessamverkansverige.se/events/diabetes-samverkan-sverige-digitalt-mote-15-oktober-kl-10-11/
LOCATION:Digitalt
END:VEVENT
END:VCALENDAR